BEGIN:VCALENDAR
VERSION:2.0
PRODID:-//Contratero//ES
CALSCALE:GREGORIAN
METHOD:PUBLISH
BEGIN:VEVENT
UID:DNA 322/2019@contratero.es
DTSTAMP:20260425T105503Z
DTSTART:20190912T235959
DTEND:20190913T005959
SUMMARY:Cierre: Soporte técnico para herramientas de gestión de la
DESCRIPTION:Soporte técnico para herramientas de gestión de la explotación del sistema de navegación aérea ii\\n\\nOrganismo: Dirección Económico-Financiera de ENAIRE\\n\\nVer en Contratero: https://contratero.es/contracts/DNA 322/2019
URL:https://contratero.es/contracts/DNA 322/2019
STATUS:CONFIRMED
BEGIN:VALARM
TRIGGER:-P1D
ACTION:DISPLAY
DESCRIPTION:Recordatorio: Soporte técnico para herramien
END:VALARM
END:VEVENT
END:VCALENDAR